BEGIN:VCALENDAR
VERSION:2.0
PRODID:-//Explore Real Options - ECPv4.6.19//NONSGML v1.0//EN
CALSCALE:GREGORIAN
METHOD:PUBLISH
X-WR-CALNAME:Explore Real Options
X-ORIGINAL-URL:https://explorerealoptions.id
X-WR-CALDESC:Events for Explore Real Options
BEGIN:VEVENT
DTSTART;TZID=UTC+0:20131217T080000
DTEND;TZID=UTC+0:20171223T170000
DTSTAMP:20260424T104821
CREATED:20180624T054110Z
LAST-MODIFIED:20180624T054110Z
UID:409-1387267200-1514048400@explorerealoptions.id
SUMMARY:Training “Petroleum Economics and Portfolio Risk Analysis”\, 17 – 20 December 2013\, Sheraton Hotel Kuta – BALI
DESCRIPTION:\n\n\n\nOverview\n\n\n\nThis new title of Petroleum Economics course is to accommodate topic of Portfolio Risk Analysis in more     detail.\nThis intensive course will provide participants with the tools and techniques to avoid some common errors in evaluation and execute investment decision with better assessment using Market Risk & Portfolio Analysis.\n\n \n\n\n\n\n\n\n\n\n\nKey Highlights\n\n\n\n\n\n\n\nBasic of evaluation techniques as well as the practical implementation of these techniques to upstream project assessment in PSC Regime\nIdentifying and quantifying risk using sensitivity analysis and Monte Carlo Simulation\nAssessing risk market information in managing upstream project.\nMaking investment decisions in exploration and development project\, acquisition project or bidding evaluation on block tender\n\n\n\n\n\n\n\n\n\n\n\n\n\nContents\n\n\n\n\n\n     Topic\n         Description\n\n\n\nBasic Economic Evaluation \n\n1. Overview of project economics in PSC regime\n2. Conventional Valuation Techniques: \n\nUndiscounted Analysis (IRR\, Payback)\nDiscounted Analysis (NPV\, Profit to Investment)\n\n\n\n\n\nRisk Analysis \n\n3. Static Risk Analysis \n\nSensitivity Analysis\nScenario Analysis (high\, base\, and low case)\n\n4. Probabilistic Risk Analysis \n\nMonteCarlo Simulation (Probability distributions)\n\n5. Decision Tree \n\nExpected Monetary Value\nValue of Information\n\n\n\n\n\nRisk Management \n\n6. Contingence Decision Analysis using Real Options \n\nFuzzy Pay Off Method\nPaddock Siegel and Smith model\n\n7. Portfolio Management \n\nSelection Technique\nDiversification and Optimization\n\n\n\n\n\nThe Use of Market Information \n\n8. Some common errors in conventional technique\n9. Forward price market\n10. Conventional  DCF vs Market based NPV (MBV)\n11. Static vs Dynamic Cash Flow using forward pricing\n\n\n\n \n\n\n\nCase Study\n\n\n\nHarvard Business Case Study : Penzoil vs Texaco\nAcquisition on PSC Block\nEvaluation of bidding proposal on Block Tender\n\n\n\n\n\n\n\n\n\n\n\n\n\n\n\n\n\n\n\nComplement\n\n\n\nExtensive set of course notes detailing valuation concepts\, numerical calculations and practical valuation examples.\nExcel sspreadsheets Model for petroleum projects evaluation\nRisk Simulator software (Trial Version) for Monte Carlo Simulation\nFree Book “A New Era of Project Economics and Investment Decision Techniques”\n\n\n\n\n\n\n\n\n\n\n\n\n\n\n\n\n\n\nFurther Information\n\nXperiential and Professional Training  (XP training)Menara Kartika Chandra Lt.2 R206 Jl. Gatot Subroto Kav 18-20  JakartaPh. 021-5251351\,  Fax. 021-5256479.E-mail: info@xp-training.info\n\n\n\n\n
URL:https://explorerealoptions.id/event/training-petroleum-economics-and-portfolio-risk-analysis-17-20-december-2013-sheraton-hotel-kuta-bali/
END:VEVENT
END:VCALENDAR