BEGIN:VCALENDAR
VERSION:2.0
PRODID:-//Explore Real Options - ECPv4.6.19//NONSGML v1.0//EN
CALSCALE:GREGORIAN
METHOD:PUBLISH
X-WR-CALNAME:Explore Real Options
X-ORIGINAL-URL:https://explorerealoptions.id
X-WR-CALDESC:Events for Explore Real Options
BEGIN:VEVENT
DTSTART;TZID=UTC+0:20170912T080000
DTEND;TZID=UTC+0:20170914T170000
DTSTAMP:20260424T092523
CREATED:20180624T044728Z
LAST-MODIFIED:20180624T044728Z
UID:390-1505203200-1505408400@explorerealoptions.id
SUMMARY:Public Course: A New Era of Project Economics and Risk Analysis in the Face of Uncertainty\, 12 – 14 September 2017\, Le Meridien Hotel Jakarta
DESCRIPTION:The course comprises 12 chapters with respective workshops where the attendee will apply the theory in a real upstream project data set. To achieve this\, the attendee will use the free Monte Carlo add in excel for probabilistic risk analysis\, and excel spreadsheet for real options analysis. \nThis course will: \n\nlearn the basic of evaluation techniques as well as the practical the implementation of these techniques to upstream project\nenable participants to identify and quantifying risk using probabilistic Monte Carlo Simulation\nlearn how to assess the value of information in managing the uncertainty of the upstream project using decision tree analysis\nbring participants up to date on recent development in project modeling and evaluation using advance valuation techniques.\n\n  \nCourse Agenda \nDay 1: Conventional Analysis \n\nIntroduction – Fundamental of Upstream project\nKey Valuation Measure:\n\n\nUndiscounted Cash Flow Analysis (IRR\, Pay Out Time)\nDiscounted Cash Flow Analysis (NPV\, PI)\n\nWorkshop 1: Building a PSC cash flow model  \n\nIdentifying sources of uncertainty – Sensitivity analysis (spider and tornado charts)\n\nWorkshop 2: Building a sensitivity model using data table function \n\nBuilding economic analysis for different reserve and development scenario\n\nWorkshop 3: Building a scenario model using index match function  \nDay 2: Probabilistic and Decision Tree Analysis   \n\nIntroduction to uncertainty and risk – Monte Carlo simulation;\n\nWorkshop 4: Building a quantitative Monte Carlo model using free montecarlo simulation tools \n\nQuantifying variable uncertainty in upstream project using simulations techniques;\n\nWorkshop 5: Assessing the effect of variable uncertainty on project’s NPV \n\nIntroduction to decision tree scenario analysis.\n\nWorkshop 6: Building a decision tree analysis for Exploration drilling decision \n\nQuantifying Value of Information (VOI) in appraisal drilling or seismic activity;\n\nWorkshop 7:  \n1.  Assessing VOI in appraisal drilling prior to Final Development Decision (FID) \n2. Harvard Business Case Study: Penzoil vs Texaco \nDay 3: Modern Real Option Analysis  \n\nIntroduction to real options analysis – Birth and institution behind Real Options\nConventional vs Modern Valuation\n\nWorkshop 8: Fundamental difference between DCF vs Modern \n\nMarket Comparable – Modern Valuation techniques (Paddock Siegel and Smith model)\n\nWorkshop 10: Valuation undeveloped reserve \n\nImplementing Real Options in merger and acquisition process\n\nWorkshop 11: Case Study In Indonesia:        \n1. Acquisition of Foreign Company Assets in Indonesia \n2. Pertamina vs Shell in exploration block tender \n3. Acquisition of PSC block in East Java \nREGISTERATION INFO  \nXperiential and Professional Training (XP training) Ngemplak Karangjati Jl. Monjali No. 45 RT. 003 RW 036 Sinduadi Mlati Sleman Yogyakarta 55284 Ph. / Fax. 0274-6411288. E-mail: xp.training@cbn.net.id \nCP : Anton Wibowo (08118202389)\, Indah cahyani (08122758968)\, Naila Zahara (081321754000) \n
URL:https://explorerealoptions.id/event/public-course-a-new-era-of-project-economics-and-risk-analysis-in-the-face-of-uncertainty-12-14-september-2017-le-meridien-hotel-jakarta/
LOCATION:jakarta\, jakarta\, Indonesia
END:VEVENT
END:VCALENDAR