BEGIN:VCALENDAR
VERSION:2.0
PRODID:-//Explore Real Options - ECPv4.6.19//NONSGML v1.0//EN
CALSCALE:GREGORIAN
METHOD:PUBLISH
X-WR-CALNAME:Explore Real Options
X-ORIGINAL-URL:https://explorerealoptions.id
X-WR-CALDESC:Events for Explore Real Options
BEGIN:VEVENT
DTSTART;TZID=UTC+0:20161004T080000
DTEND;TZID=UTC+0:20161006T170000
DTSTAMP:20260424T104556
CREATED:20180624T052556Z
LAST-MODIFIED:20180624T052556Z
UID:399-1475568000-1475773200@explorerealoptions.id
SUMMARY:Project Valuation Workshop in 8th Annual MGEI Convention\, 3 – 4 October 2016\, Aston Primera Hotel Bandung
DESCRIPTION:In collaboration with 8th Annual MGEI Convention in Bandung\,  this pre workshop convention that suits to those who working in energy/mining companies\, mine contractor companies\, mine consultants\, Investors\, and Banks. This training will deliver with case study and hands on material using computer. \n\nKey Highlights \n\nAppreciate that static DCF NPV is not enough to measure the whole value of an oil and gas project.\nMove beyond the static approach framework that is implicit in most current analyses to an explicit modeling and analysis using dynamic approach\nHave acquired the skills to identify\, model and evaluate mining project in Indonesia using all available techniques (from conventional to modern approach)\n\nOverview \nCurrent low mineral price has made many mining project was delayed while waiting for the situation strengthen. Having low operating and investment costs per tonnage product\, corporate values and profitability will increase and eventually will make company be sustainable in the current situation. An analysis on operating and investment costs is therefore very crucial task. Any mistake in mine planning and mine operation together with weak control in costs will lead a profit reduction or even more a loss for the company. \nMany people in the mining industry are concerned that their organizations may be destroying value by making systematic errors in investment evaluation and decision. Some common problems include: \n\nundervaluing long-lived assets\noverbuilding production facilities\n\nUnfortunately\, the current evaluation methods currently in common use in these industries have systematic biases that can lead asset managers to fall in to all of these traps\, and others. \nSince two decades\, the evaluation techniques had been developed and implemented\, started with Monte Carlo Simulation\, Decision Tree Analysis and the recent one\, Real Options (RO) approach. These advance techniques can help asset managers to make better decisions in dealing with current uncertainty related to the technical and market issues. \nTraining Scheme \n\nlearn the basic of investment evaluation techniques as well as the practical implementation of these techniques to mining project assessment\nenable participants to identify and quantifying risk using sensitivity and scenario analysis and Monte Carlo Simulation\nbring participants up to date on recent development in project modeling and evaluation using Real Option Valuation (ROV) techniques.\n\nTraining Material \n\nExtensive set of course notes detailing valuation concepts\, numerical calculations and practical valuation examples\nExcel Spreadsheets Model for valuing mining project\nSoftware tools for Monte Carlo Simulation\n\nComputer Requirement\nAs the course is Excel-Based\, it would be highly desirable if participants could bring with them their own laptop computer \nTo reserve your seat and inquiries\, please contact :\n1. Email : sekretariatmgei@gmail.com\n2. phone/fax: +62-21-8370-2848 \nwww.mgei-iagi.org \n
URL:https://explorerealoptions.id/event/project-valuation-workshop-in-8th-annual-mgei-convention-3-4-october-2016-aston-primera-hotel-bandung/
END:VEVENT
END:VCALENDAR