BEGIN:VCALENDAR
VERSION:2.0
PRODID:-//Explore Real Options - ECPv4.6.19//NONSGML v1.0//EN
CALSCALE:GREGORIAN
METHOD:PUBLISH
X-WR-CALNAME:Explore Real Options
X-ORIGINAL-URL:https://explorerealoptions.id
X-WR-CALDESC:Events for Explore Real Options
BEGIN:VEVENT
DTSTART;TZID=UTC+0:20190922T080000
DTEND;TZID=UTC+0:20190923T170000
DTSTAMP:20260424T061717
CREATED:20190831T034933Z
LAST-MODIFIED:20190831T035143Z
UID:2270-1569139200-1569258000@explorerealoptions.id
SUMMARY:Pre Convention Workshop - The 11th MGEI Annual Convention
DESCRIPTION: \n
URL:https://explorerealoptions.id/event/pre-convention-workshop-exploration-mining-project-holistic-assessment-and-valuation/
LOCATION:Bogor\, Indonesia
ORGANIZER;CN="MGEI":MAILTO:secretariat@mgei.iagi.or.id
END:VEVENT
END:VCALENDAR