BEGIN:VCALENDAR
VERSION:2.0
PRODID:-//Explore Real Options - ECPv4.6.19//NONSGML v1.0//EN
CALSCALE:GREGORIAN
METHOD:PUBLISH
X-WR-CALNAME:Explore Real Options
X-ORIGINAL-URL:https://explorerealoptions.id
X-WR-CALDESC:Events for Explore Real Options
BEGIN:VEVENT
DTSTART;TZID=UTC+0:20200318T080000
DTEND;TZID=UTC+0:20200320T170000
DTSTAMP:20260424T074726
CREATED:20200219T232248Z
LAST-MODIFIED:20200219T232248Z
UID:2342-1584518400-1584723600@explorerealoptions.id
SUMMARY:Petroleum Economics and Risk Analysis - An Application in PSC Gross Split
DESCRIPTION:The current price situation has made many oil and gas projects was delayed while waiting for the situation to strengthen. Many people in the oil and gas industry are concerned that their organizations may be destroying value by making systematic errors in investment evaluation and decision. \nUnfortunately\, the conventional DCF valuation methods currently in common use in petroleum economics have systematic biases that can lead asset managers to fall into all of these traps and others. \nIn a new era of the gross split regime in Indonesia\, it is very important to identify the uncertain variables and explore ways to minimize the downside risk and to maximize the upside potential. \nThe advance probabilistic analysis is essential to understand the influences and dynamics of project economics with respect to the new gross split era becoming imperative for anyone undertaking the development of a new resource project. \nBased on the recently published book and using free SIPmath simulation tools\, this specially designed 3-day cutting edge course aims to provide a solid understanding of the latest valuation and risk analysis in oil and gas projects for an improved investment decision. \nSee all the agenda of this workshop by click link below: Petroleum Economics and Risk Analysis – Mar 2020 \n
URL:https://explorerealoptions.id/event/petroleum-economics-and-risk-analysis-an-application-in-psc-gross-split/
LOCATION:Jl. Laksda Adisucipto No.81\, Ambarukmo\, Caturtunggal\, Kec. Depok\, Kabupaten Sleman\,\, Yogyakarta
ORGANIZER;CN="XP%20Training":MAILTO:training@xp-training.info
END:VEVENT
END:VCALENDAR