BEGIN:VCALENDAR
VERSION:2.0
PRODID:-//Explore Real Options - ECPv4.6.19//NONSGML v1.0//EN
CALSCALE:GREGORIAN
METHOD:PUBLISH
X-WR-CALNAME:Explore Real Options
X-ORIGINAL-URL:https://explorerealoptions.id
X-WR-CALDESC:Events for Explore Real Options
BEGIN:VEVENT
DTSTART;TZID=UTC+0:20141119T080000
DTEND;TZID=UTC+0:20141122T170000
DTSTAMP:20260424T104847
CREATED:20180624T053232Z
LAST-MODIFIED:20180624T053232Z
UID:403-1416384000-1416675600@explorerealoptions.id
SUMMARY:Petroleum Economics and Portfolio Risk Analysis (for Improved Decision Making Under Uncertainty) – GH Universal Hotel Bandung 19 – 22 November 2014
DESCRIPTION:\n \nThis intensive course will provide participants with the tools and techniques to avoid some common errors in evaluation and execute investment decision with better assessment using Market Risk\, Monte Carlo Simulation\, Decision Tree\, Real Options & Portfolio Management. \n  \nKey Highlights \n\nBasic of evaluation techniques as well as the practical implementation of these techniques to upstream project assessment in PSC Regime\nIdentifying and quantifying risk using sensitivity analysis and Monte Carlo Simulation\nAssessing risk market information in managing upstream project.\nMaking investment decisions in exploration and development project\, acquisition project or bidding evaluation on block tender.\n\n\n\n\n\nContents\n\n\n\n\n\n     Topic\n         Description\n\n\n\nBasic Project Economics \n\n\n\nOverview of PSC regime\nPetroleum Economics (Key parameter\, cash flow)\nValuation Techniques (IRR\, Pay back\, PI\, NPV)\n\n\n\n\n\nProject Risk \n\n\n\nDeterministic Approach (sensitivity and scenario analysis)\nProbabilistic Approach (Monte Carlo Simulation)\n\n\n\n\n\nModern Project Economics \n\n\n\nCommon errors in conventional technique\nOverview of Modern Valuation (Real Options)\nConventional vs. Modern NPV\nThe Use of Market Information\nMarket Comparable approach ($/boe transaction and Paddock Siegel Smith Model)\n\n\n\n\n\nDecision Under Uncertainty \n\n\n\nDecision Tree (EMV\, Value of Information)\nPortfolio Management (Selection\, Diversification and Optimization)\nContingent Decision Analysis using Real Options\n\n\n\n\n\n \n\n\n\nCase Study\n\n\n\nHarvard Business Case Study : Penzoil vs Texaco\nAcquisition on PSC Block\nEvaluation of bidding proposal on Block Tender\n\n\n\n\n\n\n\n\n\n\n\n\n\n\n\n\n\n\n\nComplement\n\n\n\nExtensive set of course notes detailing valuation concepts\, numerical calculations and practical valuation examples.\nExcel sspreadsheets Model for petroleum projects evaluation\nRisk Simulator software (Trial Version) for Monte Carlo Simulation\nFree Book “A New Era of Project Economics and Investment Decision Techniques”\n\n\n\n\n\n\n\n\n\n\n\n\n\n\n\n\n\n\nFurther Information\n\nXperiential and Professional Training  (XP training)Menara Kartika Chandra Lt.2 R206 Jl. Gatot Subroto Kav 18-20  JakartaPh. 021-5251351\,  Fax. 021-5256479.E-mail: info@xp-training.info\n\n\n\n\n
URL:https://explorerealoptions.id/event/petroleum-economics-and-portfolio-risk-analysis-for-improved-decision-making-under-uncertainty-gh-universal-hotel-bandung-19-22-november-2014/
END:VEVENT
END:VCALENDAR