BEGIN:VCALENDAR
VERSION:2.0
PRODID:-//Explore Real Options - ECPv4.6.19//NONSGML v1.0//EN
CALSCALE:GREGORIAN
METHOD:PUBLISH
X-WR-CALNAME:Explore Real Options
X-ORIGINAL-URL:https://explorerealoptions.id
X-WR-CALDESC:Events for Explore Real Options
BEGIN:VEVENT
DTSTART;TZID=UTC+0:20160119T080000
DTEND;TZID=UTC+0:20160120T170000
DTSTAMP:20260424T104723
CREATED:20180624T053030Z
LAST-MODIFIED:20180624T053342Z
UID:401-1453190400-1453309200@explorerealoptions.id
SUMMARY:Oil and gas economics – Techniques and Application\, 19 – 20 January 2016\, Ritz Carlton – Jakarta
DESCRIPTION:In collaboration with Energy Nusantara\,  this 2-day interactive training that suits to those who working in Oil and gas companies\, EPC companies\, Lawyers\, Consultants\, Investors\, Banks\, Storage and transportation\, Suppliers\, Government and regulators. This training is both Indonesia and International focus with case study and hands on material using computer. \nKey Highlights \n\nAppreciate that static DCF NPV is not enough to measure the whole value of an oil and gas project.\nMove beyond the static approach framework that is implicit in most current analyses to an explicit modeling and analysis using dynamic approach\nHave acquired the skills to identify\, model and evaluate the oil and gas case in Indonesia using all available techniques (conventional to modern approach)\n\nOverview \nMany people in oil and gas industry are concerned that their organizations may be destroying value by making systematic errors in investment evaluation and decision. Some common problems include: \n\nundervaluing long-lived assets\noverbuilding production facilities\n\nThe static discounted cash flow (DCF) valuation methods currently in common use in these industries have systematic biases that can lead asset managers to fall in to all of these traps\, and others. These more recent valuation methods differ from static DCF methods by using Modern Real Options Method (RO). For more than 20 years\, Real Options (RO) had been developed to show how the current standard approaches to value estimation in financial markets\, when applied properly. This approach can help asset managers to make better decisions in dealing with these and other issues. \nRO automatically causes the different types and levels of uncertainty inherent in different asset designs and management plans to have appropriately different effects on asset value. This is not possible with a “one discount rate fits all” DCF approach to valuation. RO uses financial market data as much as possible to help organizations understand the effects of uncertainty on value. \nTraining Scheme \n\nlearn the basic of investment evaluation techniques as well as the practical implementation of these techniques to oil and gas project assessment\nenable participants to identify and quantifying risk using sensitivity and scenario analysis and Monte Carlo Simulation\nlearn how to asses the value of information and value of flexibility in managing the uncertainty of the oil and gas project covered in decision tree analysis\nbring participants up to date on recent development in project modeling and evaluation using Real Option Valuation (ROV) techniques\n\nCase Study \n\nPSC block acquisition in Natuna and Java\nHarvard Business Case “Penzoil vs Texaco”\n\nTraining Material \n\nExtensive set of course notes detailing valuation concepts\, numerical calculations and practical valuation examples\nExcel Spreadsheets Model for valuing oil and gas project\nCrystal Ball Software (Trial Version) for Monte Carlo Simulation\n\nComputer Requirement\nAs the course is Excel-Based\, it would be highly desirable if participants could bring with them their own laptop computer \nTo reserve your seat and inquiries\, please register :\n1. Online at Reservation Form\n2. Email us at training@energynusantara.com\n3. Call us at +62-877-8198-8709 (Ms. Chechi) \n
URL:https://explorerealoptions.id/event/oil-and-gas-economics-techniques-and-application-19-20-january-2016-ritz-carlton-jakarta/
END:VEVENT
END:VCALENDAR