BEGIN:VCALENDAR
VERSION:2.0
PRODID:-//Explore Real Options - ECPv4.6.19//NONSGML v1.0//EN
CALSCALE:GREGORIAN
METHOD:PUBLISH
X-WR-CALNAME:Explore Real Options
X-ORIGINAL-URL:https://explorerealoptions.id
X-WR-CALDESC:Events for Explore Real Options
BEGIN:VEVENT
DTSTART;TZID=UTC+0:20200311T080000
DTEND;TZID=UTC+0:20200313T170000
DTSTAMP:20260424T074340
CREATED:20200204T225114Z
LAST-MODIFIED:20200204T225114Z
UID:2332-1583913600-1584118800@explorerealoptions.id
SUMMARY:Mining Economics Course
DESCRIPTION:In a challenging mining industry\, it is very important to identify the uncertain variables and explore ways to minimize the downside risk and to maximize the upside potential. \nThe advance probabilistic analysis is essential to understand the influences and dynamics of project economics concerning the mining industry becoming imperative for anyone undertaking the development of a new resource project. \nSIPmath tool\, free licensed software from probability management.org facilitates the development of stochastic spreadsheet applications. This software can quickly create interactive Monte Carlo simulations in Excel\, in which thousands of trials are run before the user’s finger leaves the <Enter> key. \nBased on the recently published book and using the SIPmath tools\, this specially designed 3-day cutting edge course aims to provide a solid understanding of the latest valuation and risk analysis in mining projects for an improved investment decision. \nFor detail agenda please see below: Flyer mining economics Mar 20 \n
URL:https://explorerealoptions.id/event/mining-economics-course/
LOCATION:Jl MH Thamrin Gondangdia\, Jakarta
ORGANIZER;CN="Indonesian%20Mining%20Institute":MAILTO:adviant_rizaldi@yahoo.co.id
END:VEVENT
END:VCALENDAR