BEGIN:VCALENDAR
VERSION:2.0
PRODID:-//Explore Real Options - ECPv4.6.19//NONSGML v1.0//EN
CALSCALE:GREGORIAN
METHOD:PUBLISH
X-WR-CALNAME:Explore Real Options
X-ORIGINAL-URL:https://explorerealoptions.id
X-WR-CALDESC:Events for Explore Real Options
BEGIN:VEVENT
DTSTART;TZID=UTC+0:20221207T080000
DTEND;TZID=UTC+0:20221209T170000
DTSTAMP:20260424T074958
CREATED:20221021T072350Z
LAST-MODIFIED:20221021T072919Z
UID:4673-1670400000-1670605200@explorerealoptions.id
SUMMARY:Mining Economics Course 2022
DESCRIPTION:In a challenging mining industry\, it is very important to identify the uncertain variables and explore ways to minimize the downside risk and to maximize the upside potential. \nThe advance probabilistic analysis is essential to understand the influences and dynamics of project economics concerning the mining industry becoming imperative for anyone undertaking the development of a new resource project. \nSIPmath tool\, free licensed software from probability management.org facilitates the development of stochastic spreadsheet applications. This software can quickly create interactive Monte Carlo simulations in Excel\, in which thousands of trials are run before the user’s finger leaves the <Enter> key. \nBased on the recently published book and using the SIPmath tools\, this specially designed 3-day cutting edge course aims to provide a solid understanding of the latest valuation and risk analysis in mining projects for an improved investment decision. \n  \n
URL:https://explorerealoptions.id/event/mining-economics-course-7-9-december-2022-grand-mercure-jakarta-harmoni/
ORGANIZER;CN="Indonesian%20Mining%20Institute":MAILTO:adviant_rizaldi@yahoo.co.id
END:VEVENT
END:VCALENDAR